BEGIN:VCALENDAR
VERSION:2.0
PRODID:spatie/icalendar-generator
DESCRIPTION:Evenementen van Museumpark Archeon
X-WR-CALDESC:Evenementen van Museumpark Archeon
REFRESH-INTERVAL;VALUE=DURATION:PT1440M
X-PUBLISHED-TTL:PT1440M
BEGIN:VTIMEZONE
TZID:Etc/GMT+0
BEGIN:STANDARD
DTSTART:20241112T000000Z
TZOFFSETFROM:+0000
TZOFFSETTO:+0000
END:STANDARD
END:VTIMEZONE
BEGIN:VTIMEZONE
TZID:UTC
BEGIN:STANDARD
DTSTART:20250723T125815Z
TZOFFSETFROM:+0000
TZOFFSETTO:+0000
END:STANDARD
END:VTIMEZONE
BEGIN:VEVENT
UID:1064-5
DTSTAMP:20260419T125815Z
SUMMARY:10.00 - 17.00 uur
LOCATION:
ORGANIZER;CN=joost:MAILTO:joost@interweave.nl
RRULE:FREQ=WEEKLY;UNTIL=20251026T000000Z
DTSTART;TZID=Etc/GMT+0;VALUE=DATE:20250809
DTEND;TZID=Etc/GMT+0;VALUE=DATE:20250810
X-ALT-DESC;FMTTYPE=TEXT/HTML:
CATEGORIES:Openingstijden
URL;VALUE=URI:https://archeon.joostdev.nl/mc-events/10-00-17-00-uur-2/?mc_i
 d=1064
METHOD:PUBLISH
END:VEVENT
END:VCALENDAR